BEGIN:VCALENDAR
VERSION:2.0
PRODID:-//Schlossberg-Realschule Albstadt - ECPv6.15.18//NONSGML v1.0//EN
CALSCALE:GREGORIAN
METHOD:PUBLISH
X-ORIGINAL-URL:https://schlossberg-rs.de
X-WR-CALDESC:Veranstaltungen für Schlossberg-Realschule Albstadt
REFRESH-INTERVAL;VALUE=DURATION:PT1H
X-Robots-Tag:noindex
X-PUBLISHED-TTL:PT1H
BEGIN:VTIMEZONE
TZID:Europe/Berlin
BEGIN:DAYLIGHT
TZOFFSETFROM:+0100
TZOFFSETTO:+0200
TZNAME:CEST
DTSTART:20230326T010000
END:DAYLIGHT
BEGIN:STANDARD
TZOFFSETFROM:+0200
TZOFFSETTO:+0100
TZNAME:CET
DTSTART:20231029T010000
END:STANDARD
BEGIN:DAYLIGHT
TZOFFSETFROM:+0100
TZOFFSETTO:+0200
TZNAME:CEST
DTSTART:20240331T010000
END:DAYLIGHT
BEGIN:STANDARD
TZOFFSETFROM:+0200
TZOFFSETTO:+0100
TZNAME:CET
DTSTART:20241027T010000
END:STANDARD
BEGIN:DAYLIGHT
TZOFFSETFROM:+0100
TZOFFSETTO:+0200
TZNAME:CEST
DTSTART:20250330T010000
END:DAYLIGHT
BEGIN:STANDARD
TZOFFSETFROM:+0200
TZOFFSETTO:+0100
TZNAME:CET
DTSTART:20251026T010000
END:STANDARD
END:VTIMEZONE
BEGIN:VEVENT
DTSTART;VALUE=DATE:20240604
DTEND;VALUE=DATE:20240605
DTSTAMP:20260424T101748
CREATED:20230911T090740Z
LAST-MODIFIED:20230911T090740Z
UID:2040-1717459200-1717545599@schlossberg-rs.de
SUMMARY:Schriftliche Abschlussprüfung Mathematik
DESCRIPTION:
URL:https://schlossberg-rs.de/termin/schriftliche-abschlusspruefung-mathematik/
END:VEVENT
BEGIN:VEVENT
DTSTART;VALUE=DATE:20240606
DTEND;VALUE=DATE:20240607
DTSTAMP:20260424T101748
CREATED:20230911T090840Z
LAST-MODIFIED:20230911T090856Z
UID:2042-1717632000-1717718399@schlossberg-rs.de
SUMMARY:Schriftliche Abschlussprüfung Wahlpflichtfach (F / AES / TE)
DESCRIPTION:
URL:https://schlossberg-rs.de/termin/schriftliche-abschlusspruefung-wahlpflichtfach-f-aes-te/
END:VEVENT
BEGIN:VEVENT
DTSTART;VALUE=DATE:20240620
DTEND;VALUE=DATE:20240621
DTSTAMP:20260424T101748
CREATED:20230911T090949Z
LAST-MODIFIED:20230911T090949Z
UID:2045-1718841600-1718927999@schlossberg-rs.de
SUMMARY:Nachtermin Prüfung Deutsch
DESCRIPTION:
URL:https://schlossberg-rs.de/termin/nachtermin-pruefung-deutsch/
END:VEVENT
BEGIN:VEVENT
DTSTART;VALUE=DATE:20240621
DTEND;VALUE=DATE:20240622
DTSTAMP:20260424T101748
CREATED:20230911T091023Z
LAST-MODIFIED:20230911T091023Z
UID:2047-1718928000-1719014399@schlossberg-rs.de
SUMMARY:Nachtermin Prüfung Englisch
DESCRIPTION:
URL:https://schlossberg-rs.de/termin/nachtermin-pruefung-englisch/
END:VEVENT
BEGIN:VEVENT
DTSTART;VALUE=DATE:20240624
DTEND;VALUE=DATE:20240625
DTSTAMP:20260424T101748
CREATED:20230911T091059Z
LAST-MODIFIED:20230911T091059Z
UID:2049-1719187200-1719273599@schlossberg-rs.de
SUMMARY:Nachtermin Prüfung Mathematik
DESCRIPTION:
URL:https://schlossberg-rs.de/termin/nachtermin-pruefung-mathematik/
END:VEVENT
BEGIN:VEVENT
DTSTART;VALUE=DATE:20240625
DTEND;VALUE=DATE:20240626
DTSTAMP:20260424T101748
CREATED:20230911T091133Z
LAST-MODIFIED:20230911T091133Z
UID:2051-1719273600-1719359999@schlossberg-rs.de
SUMMARY:Nachtermin Prüfung Wahlpflichtfach
DESCRIPTION:
URL:https://schlossberg-rs.de/termin/nachtermin-pruefung-wahlpflichtfach/
END:VEVENT
END:VCALENDAR